BEGIN:VCALENDAR
VERSION:2.0
PRODID:-//ILBCF - ECPv6.15.20//NONSGML v1.0//EN
CALSCALE:GREGORIAN
METHOD:PUBLISH
X-WR-CALNAME:ILBCF
X-ORIGINAL-URL:https://ilbcf.org
X-WR-CALDESC:Events for ILBCF
REFRESH-INTERVAL;VALUE=DURATION:PT1H
X-Robots-Tag:noindex
X-PUBLISHED-TTL:PT1H
BEGIN:VTIMEZONE
TZID:UTC
BEGIN:STANDARD
TZOFFSETFROM:+0000
TZOFFSETTO:+0000
TZNAME:UTC
DTSTART:20220101T000000
END:STANDARD
END:VTIMEZONE
BEGIN:VEVENT
DTSTART;TZID=UTC:20260218T180000
DTEND;TZID=UTC:20260218T210000
DTSTAMP:20260423T155713
CREATED:20260113T212947Z
LAST-MODIFIED:20260205T171750Z
UID:3401-1771437600-1771448400@ilbcf.org
SUMMARY:2026 Soiree: And Still We Rise
DESCRIPTION:
URL:https://ilbcf.org/event/2026-soiree-and-still-we-rise/
LOCATION:Abraham Lincoln Presidetial Library\, 212 N 6th St\, Springfield\, IL\, 62701\, United States
END:VEVENT
BEGIN:VEVENT
DTSTART;VALUE=DATE:20251003
DTEND;VALUE=DATE:20251005
DTSTAMP:20260423T155714
CREATED:20250828T185553Z
LAST-MODIFIED:20250828T185553Z
UID:3379-1759449600-1759622399@ilbcf.org
SUMMARY:2025 Policy Summit and Bedazzled Power Brunch
DESCRIPTION:The time has finally arrived!!! The 2025 ILBCF Policy Summit and Power Brunch is here!\n\n\nIf you have attended in the past\, you know what an amazing time it is while being informative\, Policy driven\, with networking opportunities that span the globe and so much more!\n\n\n\nIf you are interested in the most critical issues impacting our communities\, you will not want to miss this!\n\n\nRegister NOW for the 2025 ENDGAME: Relentless Power Policy Summit & Brunch\n\n\nBook your hotel here.
URL:https://ilbcf.org/event/2025-policy-summit-and-bedazzled-power-brunch/
LOCATION:Fairmont Hotel\, 200 N Columbus Dr\, Chicago\, IL\, 6601\, United States
END:VEVENT
BEGIN:VEVENT
DTSTART;TZID=UTC:20250709T083000
DTEND;TZID=UTC:20250709T170000
DTSTAMP:20260423T155714
CREATED:20250609T160559Z
LAST-MODIFIED:20250609T160559Z
UID:3332-1752049800-1752080400@ilbcf.org
SUMMARY:2025 Scholarship and Golf Outing
DESCRIPTION:Since 2002\, the Illinois Legislative Black Caucus Foundation has provided over $1\,500\,000.00 in\nscholarships to qualified Illinois students who seek to further their education beyond high school. A\nportion of the proceeds from the golf outing will be used for event production costs and to support the\nILBCF efforts to create opportunities for future generations.
URL:https://ilbcf.org/event/2025-scholarship-and-golf-outing/
LOCATION:Harborside International Golf Center\, 11001 S Doty Ave East\, Chicago\, IL\, 60628\, United States
END:VEVENT
BEGIN:VEVENT
DTSTART;TZID=UTC:20250219T180000
DTEND;TZID=UTC:20250219T220000
DTSTAMP:20260423T155714
CREATED:20250128T170521Z
LAST-MODIFIED:20250128T170521Z
UID:3265-1739988000-1740002400@ilbcf.org
SUMMARY:2025 Soiree
DESCRIPTION:
URL:https://ilbcf.org/event/2025-soiree/
LOCATION:Bank of Springfield Center\, 1 Convention Center Plaza\, Springfield\, IL\, 62701\, United States
END:VEVENT
BEGIN:VEVENT
DTSTART;TZID=UTC:20241213T080000
DTEND;TZID=UTC:20241214T170000
DTSTAMP:20260423T155714
CREATED:20241130T190102Z
LAST-MODIFIED:20241130T231039Z
UID:3204-1734076800-1734195600@ilbcf.org
SUMMARY:2024 Policy Summit
DESCRIPTION:We welcome you back for our December 2024 “Infinite Hope” Policy Summit and Brunch is for all ages and will convene business and civic leaders\, community partners\, and subject matter experts to engage on a wide range of critical policy issues in the heart of downtown Chicago. Through advocacy\, fellowship\, and networking\, this year-end summit is where we will push forward with innovative ways to achieve equitable outcomes for Black Illinoisans. \n  \nClick to view Event Agenda
URL:https://ilbcf.org/event/2024-policy-summit/
LOCATION:Swissotel Chicago\, 323 E Wacker Dr\,\, Chicago\, IL\, 60601\, United States
END:VEVENT
BEGIN:VEVENT
DTSTART;TZID=UTC:20231220T080000
DTEND;TZID=UTC:20231220T170000
DTSTAMP:20260423T155714
CREATED:20231129T172714Z
LAST-MODIFIED:20231129T172714Z
UID:3083-1703059200-1703091600@ilbcf.org
SUMMARY:Rep. Jehan Gordon-Booth "A Mother's Wish"
DESCRIPTION:
URL:https://ilbcf.org/event/rep-jehan-gordon-booth-a-mothers-wish/
LOCATION:The Warehouse on State\, 736 SW Washington St\, Peoria\, IL\, 61602\, United States
END:VEVENT
BEGIN:VEVENT
DTSTART;TZID=UTC:20231220T080000
DTEND;TZID=UTC:20231220T170000
DTSTAMP:20260423T155714
CREATED:20231129T165828Z
LAST-MODIFIED:20231129T170017Z
UID:3048-1703059200-1703091600@ilbcf.org
SUMMARY:Rep. Cyril Nichols Holiday Toy Drive
DESCRIPTION:
URL:https://ilbcf.org/event/rep-cyril-nichols-holiday-toy-drive/
LOCATION:IL
CATEGORIES:Holiday 2023
ATTACH;FMTTYPE=image/jpeg:https://ilbcf.org/wp-content/uploads/2023/11/Cyril-Nichols-crop.jpg
END:VEVENT
BEGIN:VEVENT
DTSTART;TZID=UTC:20231216T100000
DTEND;TZID=UTC:20231216T120000
DTSTAMP:20260423T155715
CREATED:20231129T171639Z
LAST-MODIFIED:20231129T171639Z
UID:3076-1702720800-1702728000@ilbcf.org
SUMMARY:Rep. Kam Buckner Toy Giveaway
DESCRIPTION:
URL:https://ilbcf.org/event/rep-kam-buckner-toy-giveaway/
LOCATION:Dolittle Elementary School\, 535 E. 35th St.
END:VEVENT
BEGIN:VEVENT
DTSTART;TZID=UTC:20231208T080000
DTEND;TZID=UTC:20231209T170000
DTSTAMP:20260423T155715
CREATED:20231122T161302Z
LAST-MODIFIED:20231122T161310Z
UID:3038-1702022400-1702141200@ilbcf.org
SUMMARY:In it for the W.H.Y. - Policy Summit & Brunch
DESCRIPTION:The “In It For The W.H.Y.” Policy Summit and Brunch is for all ages and will convene business and civic leaders\, community partners\, and subject matter experts to engage on a wide range of critical policy issues in the heart of downtown Chicago. Through advocacy\, fellowship\, and networking\, this year-end summit is where we will champion our respective “W.H.Y.s\,” while subsequently pushing forward with innovative ways to achieve equitable outcomes for Black Illinoisans.
URL:https://ilbcf.org/event/in-it-for-the-w-h-y-policy-summit-brunch/
LOCATION:Swissotel Chicago\, 323 E Wacker Dr\,\, Chicago\, IL\, 60601\, United States
END:VEVENT
BEGIN:VEVENT
DTSTART;TZID=UTC:20231206T180000
DTEND;TZID=UTC:20231206T200000
DTSTAMP:20260423T155715
CREATED:20231129T170603Z
LAST-MODIFIED:20231129T170603Z
UID:3068-1701885600-1701892800@ilbcf.org
SUMMARY:How To Appeal Your Property Tax Assessment
DESCRIPTION:
URL:https://ilbcf.org/event/how-to-appeal-your-property-tax-assessment/
LOCATION:Louis S. Viverito Senior Center  7745 S. Leamington Ave\, Burbank\, IL  60459\, 7745 S. Leamington Ave.\, Burbank\, IL\, 60459\, United States
END:VEVENT
BEGIN:VEVENT
DTSTART;TZID=UTC:20231120T100000
DTEND;TZID=UTC:20231214T150000
DTSTAMP:20260423T155715
CREATED:20231129T171049Z
LAST-MODIFIED:20231129T171049Z
UID:3072-1700474400-1702566000@ilbcf.org
SUMMARY:26th District Toy Giveaway
DESCRIPTION:
URL:https://ilbcf.org/event/26th-district-toy-giveaway/
LOCATION:Rep. Kam Buckner District Office\, 449 E. 35th Street\, Chicago\, IL\, 60653\, United States
END:VEVENT
BEGIN:VEVENT
DTSTART;TZID=UTC:20231115T093000
DTEND;TZID=UTC:20231130T173000
DTSTAMP:20260423T155715
CREATED:20231129T172128Z
LAST-MODIFIED:20231129T172128Z
UID:3080-1700040600-1701365400@ilbcf.org
SUMMARY:Ahml & Wheeling Township Holiday Book Drive
DESCRIPTION:
URL:https://ilbcf.org/event/ahml-wheeling-township-holiday-book-drive/
LOCATION:Rep. Mary Beth Canty\, 12 E. Northwest Highway\, Arlington Heights\, IL\, United States
END:VEVENT
END:VCALENDAR